BEGIN:VCALENDAR
VERSION:2.0
PRODID:-//Philly J - ECPv6.0.13.1//NONSGML v1.0//EN
CALSCALE:GREGORIAN
METHOD:PUBLISH
X-ORIGINAL-URL:https://www.phillyjcc.com
X-WR-CALDESC:Events for Philly J
REFRESH-INTERVAL;VALUE=DURATION:PT1H
X-Robots-Tag:noindex
X-PUBLISHED-TTL:PT1H
BEGIN:VTIMEZONE
TZID:America/New_York
BEGIN:DAYLIGHT
TZOFFSETFROM:-0500
TZOFFSETTO:-0400
TZNAME:EDT
DTSTART:20240310T070000
END:DAYLIGHT
BEGIN:STANDARD
TZOFFSETFROM:-0400
TZOFFSETTO:-0500
TZNAME:EST
DTSTART:20241103T060000
END:STANDARD
END:VTIMEZONE
BEGIN:VEVENT
DTSTART;TZID=America/New_York:20240904T100000
DTEND;TZID=America/New_York:20240904T113000
DTSTAMP:20260421T081628
CREATED:20240805T173520Z
LAST-MODIFIED:20240805T173520Z
UID:10001284-1725444000-1725449400@www.phillyjcc.com
SUMMARY:Gems at the J | Fall Registration Brunch
DESCRIPTION:Open House: Brunch and Fall Course Registration \nCome and register for upcoming courses and classes in-person\, while enjoying some fun and healthy brunch fare! \nPlease bring your curiosity\, calendar\, and enthusiasm\, plus your insurance card so we can make sure you are getting the most out of your benefits. \nClick here to register for this event!\nSee all classes at the link below. When you click this link it will bring you to all classes and courses available for registration. Under Sport you can select the categories of interest to you (i.e. Gems | Info Session). Under Age you can select Gems to filter all Gems-age events. \nClick here to see all of the Gems classes!
URL:https://www.phillyjcc.com/event/gems-at-the-j-fall-registration-brunch/
LOCATION:Kaiserman JCC\, 45 Haverford Rd\, Wynnewood\, PA\, 19096\, United States
ATTACH;FMTTYPE=image/jpeg:https://www.phillyjcc.com/wp-content/uploads/2024/01/i-pf72TZC-X5.jpg
ORGANIZER;CN="Gems":MAILTO:gems@phillyjcc.com
END:VEVENT
BEGIN:VEVENT
DTSTART;TZID=America/New_York:20240905T120000
DTEND;TZID=America/New_York:20240905T130000
DTSTAMP:20260421T081628
CREATED:20240805T194329Z
LAST-MODIFIED:20240927T164619Z
UID:10001395-1725537600-1725541200@www.phillyjcc.com
SUMMARY:Gems at the J | Lunch Bunch
DESCRIPTION:Catch up with your friends or make some new ones. Bring your own lunch and if you want\, also bring something to share. \nNo program on 10/3\, 10/17\, and 11/28 \nClick here to register for lunch bunch!
URL:https://www.phillyjcc.com/event/gems-at-the-j-lunch-bunch/2024-09-05/
LOCATION:Kaiserman JCC\, 45 Haverford Rd\, Wynnewood\, PA\, 19096\, United States
ATTACH;FMTTYPE=image/jpeg:https://www.phillyjcc.com/wp-content/uploads/2024/08/IMG_7183-scaled.jpg
ORGANIZER;CN="Gems":MAILTO:gems@phillyjcc.com
END:VEVENT
BEGIN:VEVENT
DTSTART;TZID=America/New_York:20240905T130000
DTEND;TZID=America/New_York:20240905T140000
DTSTAMP:20260421T081628
CREATED:20240822T175406Z
LAST-MODIFIED:20240822T175439Z
UID:10001455-1725541200-1725544800@www.phillyjcc.com
SUMMARY:Gems at the J | Mahjong Lessons
DESCRIPTION:With Sharon Dunoff & Helene Rosenfeldt | 4 Thursdays\, September 5-26\, 2024 | 1pm – 2pm | $80 \nIn just 4 weeks\, you will learn how to play a beginner’s game of Mah Jongg. You’ll learn how to identify tiles\, read a card and the rules of the game! Learn the game your mother and grandmother always wanted to teach you! \nPlease feel free to join us for Mahjong Open Play after the completion of the course from 1-3pm on Thursdays. \n  \nClick here to register for this event!
URL:https://www.phillyjcc.com/event/gems-at-the-j-mahjong-lessons/2024-09-05/
LOCATION:Kaiserman JCC\, 45 Haverford Rd\, Wynnewood\, PA\, 19096\, United States
ATTACH;FMTTYPE=image/jpeg:https://www.phillyjcc.com/wp-content/uploads/2024/03/gettyimages-71186706-1619720082.jpg
ORGANIZER;CN="Gems":MAILTO:gems@phillyjcc.com
END:VEVENT
BEGIN:VEVENT
DTSTART;TZID=America/New_York:20240905T130000
DTEND;TZID=America/New_York:20240905T150000
DTSTAMP:20260421T081628
CREATED:20240805T193608Z
LAST-MODIFIED:20240805T193608Z
UID:10001351-1725541200-1725548400@www.phillyjcc.com
SUMMARY:Gems at the J | Mahjong Open Play
DESCRIPTION:Facilitators: Helene Rosenfeldt and Sharon Dunoff \nThis playtime is for people who KNOW how to play\, from beginner to advanced. If interested in learning how to play Mahjong for the first time\, please email Rachel at rsakofs@phillyjcc.com \nClick here to register for this event!
URL:https://www.phillyjcc.com/event/gems-at-the-j-mahjong-open-play-3/
LOCATION:Kaiserman JCC\, 45 Haverford Rd\, Wynnewood\, PA\, 19096\, United States
ATTACH;FMTTYPE=image/jpeg:https://www.phillyjcc.com/wp-content/uploads/2024/03/gettyimages-71186706-1619720082.jpg
ORGANIZER;CN="Gems":MAILTO:gems@phillyjcc.com
END:VEVENT
BEGIN:VEVENT
DTSTART;TZID=America/New_York:20240905T130000
DTEND;TZID=America/New_York:20240905T150000
DTSTAMP:20260421T081628
CREATED:20240805T193824Z
LAST-MODIFIED:20240927T164431Z
UID:10001533-1725541200-1725548400@www.phillyjcc.com
SUMMARY:Gems at the J | Mahjong Open Play
DESCRIPTION:Facilitators: Helene Rosenfeldt and Sharon Dunoff \nNo Mahjong on 10/3\, 10/17\, 11/28 \nThis playtime is for people who KNOW how to play\, from beginner to advanced. If interested in learning how to play Mahjong for the first time\, please email Rachel at rsakofs@phillyjcc.com \nClick here to register for this event!
URL:https://www.phillyjcc.com/event/gems-at-the-j-mahjong-open-play-4/2024-09-05/
LOCATION:Kaiserman JCC\, 45 Haverford Rd\, Wynnewood\, PA\, 19096\, United States
ATTACH;FMTTYPE=image/jpeg:https://www.phillyjcc.com/wp-content/uploads/2024/03/gettyimages-71186706-1619720082.jpg
ORGANIZER;CN="Gems":MAILTO:gems@phillyjcc.com
END:VEVENT
BEGIN:VEVENT
DTSTART;TZID=America/New_York:20240905T183000
DTEND;TZID=America/New_York:20240905T210000
DTSTAMP:20260421T081628
CREATED:20240719T141229Z
LAST-MODIFIED:20240719T163825Z
UID:10001256-1725561000-1725570000@www.phillyjcc.com
SUMMARY:Secure\, Jewish\, and Democratic: A Group Learning Experience With IPF
DESCRIPTION:Cost: $50 Early Bird Price by 8/1; $75 Regular Price by 8/9 \nWe are thrilled to be partnering with the Israel Policy Forum to bring “Secure\, Jewish\, and Democratic” to the Philadelphia area. \n“Secure\, Jewish and Democratic” is a 5-session course where attendees dive into the major issues of the Israeli-Palestinian conflict today. Throughout the sessions\, you will form a community\, learn together\, deepen your understanding of the issues\, and leave feeling empowered to navigate dialogue about the conflict. \nSession 1: Thursday\, Sept 5\, 6:30-9pm \nSession 2: Tuesday\, Sept 10\, 6:30-8:30pm \nSession 3: Monday\, Sept 16\, 6:30-8:30pm \nSession 4: Sunday\, Sept 22\, 10am-12pm (virtual) \nSession 5: Tuesday\, Sept 24\, 6:30-9pm \nThis program is open to a limited number of participants\, and we hope you will join us! The application is available online\, here \nSubsidy is available and we do not want cost to be a barrier for any attendees\, email us for more information. The registration includes educators\, materials\, meals\, and refreshments. Please visit our course page to learn more about the program\, our educators\, and the Israel Policy Forum.
URL:https://www.phillyjcc.com/event/secure-jewish-and-democratic-a-group-learning-experience-with-ipf/2024-09-05/
LOCATION:Kaiserman JCC\, 45 Haverford Rd\, Wynnewood\, PA\, 19096\, United States
ATTACH;FMTTYPE=image/jpeg:https://www.phillyjcc.com/wp-content/uploads/2024/03/WhatsApp-Image-2019-08-01-at-09.41.00-1.jpeg
ORGANIZER;CN="Moriah%20SimonHazani":MAILTO:gems@phillyjcc.com
END:VEVENT
BEGIN:VEVENT
DTSTART;TZID=America/New_York:20240906T110000
DTEND;TZID=America/New_York:20240906T120000
DTSTAMP:20260421T081628
CREATED:20240805T183412Z
LAST-MODIFIED:20240924T130228Z
UID:10001298-1725620400-1725624000@www.phillyjcc.com
SUMMARY:Gems at the J | Cholant and Conversations
DESCRIPTION:Each month we will meet a different Rabbi or Jewish educator from the community\, who will share with us their wisdom about the Jewish connections in text impacting the world today. Vegetarian Kosher Cholent will be served. \nSeptember 6 – Rabbi David Ackerman \nSeptember 27 – Rabbi Moriah SimonHazani Canceled \nNovember 1 – Rabbi Lisa Malik\, PhD \nDecember 6 – Rabbi Shelly Barnathan \nClick here to register for this class series!\n 
URL:https://www.phillyjcc.com/event/gems-at-the-j-cholant-and-conversations/2024-09-06/
LOCATION:Kaiserman JCC\, 45 Haverford Rd\, Wynnewood\, PA\, 19096\, United States
ATTACH;FMTTYPE=image/jpeg:https://www.phillyjcc.com/wp-content/uploads/2024/04/iStock-1456203795-scaled.jpg
ORGANIZER;CN="Gems":MAILTO:gems@phillyjcc.com
END:VEVENT
END:VCALENDAR