BEGIN:VCALENDAR
VERSION:2.0
PRODID:-//Philly J - ECPv6.0.13.1//NONSGML v1.0//EN
CALSCALE:GREGORIAN
METHOD:PUBLISH
X-ORIGINAL-URL:https://www.phillyjcc.com
X-WR-CALDESC:Events for Philly J
REFRESH-INTERVAL;VALUE=DURATION:PT1H
X-Robots-Tag:noindex
X-PUBLISHED-TTL:PT1H
BEGIN:VTIMEZONE
TZID:America/New_York
BEGIN:DAYLIGHT
TZOFFSETFROM:-0500
TZOFFSETTO:-0400
TZNAME:EDT
DTSTART:20250309T070000
END:DAYLIGHT
BEGIN:STANDARD
TZOFFSETFROM:-0400
TZOFFSETTO:-0500
TZNAME:EST
DTSTART:20251102T060000
END:STANDARD
END:VTIMEZONE
BEGIN:VEVENT
DTSTART;TZID=America/New_York:20251125T083000
DTEND;TZID=America/New_York:20251125T180000
DTSTAMP:20260421T194754
CREATED:20251113T201334Z
LAST-MODIFIED:20251113T201355Z
UID:10002725-1764059400-1764093600@www.phillyjcc.com
SUMMARY:KidsTime Day Off Trips
DESCRIPTION:Looking for something exciting to do when LMSD schools are closed? We’ve got two awesome day trips planned to keep kids active\, engaged\, and having a blast! Each day includes a special outing\, lunch\, and an afternoon of sports\, games\, and art back at the JCC. Both trips conclude by 3:30pm\, however late care is included until 6pm. Sign up for one or both and make the most of these no-school days! \n Tuesday\, November 25 – LEGOLAND Discovery Center | $95 \nKids will explore\, build\, and dive into all things LEGO® at LEGOLAND Discovery Center! They’ll enjoy hands-on activities and plenty of creative fun throughout the day. A perfect mix of imagination\, adventure\, and play! \nClick here to register for Legoland on 11/25!\n Wednesday\, November 26 – Bowling at Wynnewood Lanes | $95\nJoin us for a fun-filled trip to Wynnewood Lanes\, where kids will bowl with friends\, cheer each other on\, and enjoy a classic day of friendly competition. A relaxed\, active\, and exciting way to spend a no-school day! \nClick here to register for Bowling on 11/26!\nEach day has limited availability\, be sure to sign up by 11/21 to secure your spot! 
URL:https://www.phillyjcc.com/event/kidstimetrips/2025-11-25/
LOCATION:Kaiserman JCC\, 45 Haverford Rd\, Wynnewood\, PA\, 19096\, United States
ATTACH;FMTTYPE=image/jpeg:https://www.phillyjcc.com/wp-content/uploads/2021/12/iStock-1161578650-scaled.jpg
ORGANIZER;CN="Kaiserman%20JCC":MAILTO:mberton@phillyjcc.com
END:VEVENT
BEGIN:VEVENT
DTSTART;TZID=America/New_York:20251126T083000
DTEND;TZID=America/New_York:20251126T180000
DTSTAMP:20260421T194754
CREATED:20251113T201334Z
LAST-MODIFIED:20251113T201355Z
UID:10002726-1764145800-1764180000@www.phillyjcc.com
SUMMARY:KidsTime Day Off Trips
DESCRIPTION:Looking for something exciting to do when LMSD schools are closed? We’ve got two awesome day trips planned to keep kids active\, engaged\, and having a blast! Each day includes a special outing\, lunch\, and an afternoon of sports\, games\, and art back at the JCC. Both trips conclude by 3:30pm\, however late care is included until 6pm. Sign up for one or both and make the most of these no-school days! \n Tuesday\, November 25 – LEGOLAND Discovery Center | $95 \nKids will explore\, build\, and dive into all things LEGO® at LEGOLAND Discovery Center! They’ll enjoy hands-on activities and plenty of creative fun throughout the day. A perfect mix of imagination\, adventure\, and play! \nClick here to register for Legoland on 11/25!\n Wednesday\, November 26 – Bowling at Wynnewood Lanes | $95\nJoin us for a fun-filled trip to Wynnewood Lanes\, where kids will bowl with friends\, cheer each other on\, and enjoy a classic day of friendly competition. A relaxed\, active\, and exciting way to spend a no-school day! \nClick here to register for Bowling on 11/26!\nEach day has limited availability\, be sure to sign up by 11/21 to secure your spot! 
URL:https://www.phillyjcc.com/event/kidstimetrips/2025-11-26/
LOCATION:Kaiserman JCC\, 45 Haverford Rd\, Wynnewood\, PA\, 19096\, United States
ATTACH;FMTTYPE=image/jpeg:https://www.phillyjcc.com/wp-content/uploads/2021/12/iStock-1161578650-scaled.jpg
ORGANIZER;CN="Kaiserman%20JCC":MAILTO:mberton@phillyjcc.com
END:VEVENT
END:VCALENDAR