BEGIN:VCALENDAR
VERSION:2.0
PRODID:-//Philly J - ECPv6.0.13.1//NONSGML v1.0//EN
CALSCALE:GREGORIAN
METHOD:PUBLISH
X-ORIGINAL-URL:https://www.phillyjcc.com
X-WR-CALDESC:Events for Philly J
REFRESH-INTERVAL;VALUE=DURATION:PT1H
X-Robots-Tag:noindex
X-PUBLISHED-TTL:PT1H
BEGIN:VTIMEZONE
TZID:America/New_York
BEGIN:DAYLIGHT
TZOFFSETFROM:-0500
TZOFFSETTO:-0400
TZNAME:EDT
DTSTART:20250309T070000
END:DAYLIGHT
BEGIN:STANDARD
TZOFFSETFROM:-0400
TZOFFSETTO:-0500
TZNAME:EST
DTSTART:20251102T060000
END:STANDARD
END:VTIMEZONE
BEGIN:VEVENT
DTSTART;TZID=America/New_York:20251111T153000
DTEND;TZID=America/New_York:20251111T173000
DTSTAMP:20260421T100538
CREATED:20251009T183330Z
LAST-MODIFIED:20251028T151950Z
UID:10002678-1762875000-1762882200@www.phillyjcc.com
SUMMARY:Camp Kef - Bounce House Open House
DESCRIPTION:Rescheduled from 10/28: Come bounce like it is still summer at Camp Kef’s Bounce House Playground Meetup! Families are invited to enjoy an afternoon filled with playground time\, bounce house jumping\, snacks\, and the chance to reconnect with camp friends. Meet the Camp Kef directors\, ask questions\, and get a sneak peek at all the amazing things coming for Summer 2026. It’s the perfect way to experience the joy of Camp Kef and connect with what makes our community so special! Registration is not required. \nExclusive Event Summer Savings:  \nRegister on-site at the November 11th Camp Kef event and receive $100 off your Summer 2026 tuition! \nInvite a new friend to the November 11th Camp Kef event and receive $300 off your Summer 2026 tuition when they register* for camp at the event. \n*Receive $300 off your summer at Camp Kef when you bring a new friend to the November 11th event. Your friend must register for a minimum of 4 weeks during summer 2026 and must be new to the Kaiserman JCC (never registered for camp or preschool before) \n 
URL:https://www.phillyjcc.com/event/ckbounce/
LOCATION:Kaiserman JCC\, 45 Haverford Rd\, Wynnewood\, PA\, 19096\, United States
ATTACH;FMTTYPE=image/jpeg:https://www.phillyjcc.com/wp-content/uploads/2024/08/DSC_0315-scaled.jpg
ORGANIZER;CN="Camp%20Kef":MAILTO:khausman@phillyjcc.com
END:VEVENT
END:VCALENDAR