BEGIN:VCALENDAR
VERSION:2.0
PRODID:-//Philly J - ECPv6.0.13.1//NONSGML v1.0//EN
CALSCALE:GREGORIAN
METHOD:PUBLISH
X-ORIGINAL-URL:https://www.phillyjcc.com
X-WR-CALDESC:Events for Philly J
REFRESH-INTERVAL;VALUE=DURATION:PT1H
X-Robots-Tag:noindex
X-PUBLISHED-TTL:PT1H
BEGIN:VTIMEZONE
TZID:America/New_York
BEGIN:DAYLIGHT
TZOFFSETFROM:-0500
TZOFFSETTO:-0400
TZNAME:EDT
DTSTART:20260308T070000
END:DAYLIGHT
BEGIN:STANDARD
TZOFFSETFROM:-0400
TZOFFSETTO:-0500
TZNAME:EST
DTSTART:20261101T060000
END:STANDARD
END:VTIMEZONE
BEGIN:VEVENT
DTSTART;TZID=America/New_York:20260531T110000
DTEND;TZID=America/New_York:20260531T120000
DTSTAMP:20260425T194632
CREATED:20251230T182823Z
LAST-MODIFIED:20251230T183021Z
UID:10002815-1780225200-1780228800@www.phillyjcc.com
SUMMARY:Through My Eyes - Connecting Jews From Around the World
DESCRIPTION:Sundays\, January 11\, January 25\, February 8\, March 15\, April 12\, May 31\, 2026 |11AM – 12PM \nA 6-session creative program connecting teens and adults from four JCCs\, Sumy and Poltava-Ukraine\, Pardesia-Israel\, and Philadelphia-USA\, through photography. Participants explore personal and collective stories using their cameras or phones\, culminating in a shared digital photo book or simultaneous exhibition across all communities. \nClick here to register!
URL:https://www.phillyjcc.com/event/myeyes/2026-05-31/
LOCATION:Kaiserman JCC\, 45 Haverford Rd\, Wynnewood\, PA\, 19096\, United States
ATTACH;FMTTYPE=image/jpeg:https://www.phillyjcc.com/wp-content/uploads/2024/02/iStock-1463638682-scaled.jpg
ORGANIZER;CN="Moriah%20SimonHazani":MAILTO:gems@phillyjcc.com
END:VEVENT
END:VCALENDAR