BEGIN:VCALENDAR
VERSION:2.0
PRODID:-//Philly J - ECPv6.0.13.1//NONSGML v1.0//EN
CALSCALE:GREGORIAN
METHOD:PUBLISH
X-WR-CALNAME:Philly J
X-ORIGINAL-URL:https://www.phillyjcc.com
X-WR-CALDESC:Events for Philly J
REFRESH-INTERVAL;VALUE=DURATION:PT1H
X-Robots-Tag:noindex
X-PUBLISHED-TTL:PT1H
BEGIN:VTIMEZONE
TZID:America/New_York
BEGIN:DAYLIGHT
TZOFFSETFROM:-0500
TZOFFSETTO:-0400
TZNAME:EDT
DTSTART:20250309T070000
END:DAYLIGHT
BEGIN:STANDARD
TZOFFSETFROM:-0400
TZOFFSETTO:-0500
TZNAME:EST
DTSTART:20251102T060000
END:STANDARD
END:VTIMEZONE
BEGIN:VEVENT
DTSTART;TZID=America/New_York:20250422T103000
DTEND;TZID=America/New_York:20250422T120000
DTSTAMP:20260421T062708
CREATED:20250324T193647Z
LAST-MODIFIED:20250324T193730Z
UID:26787-1745317800-1745323200@www.phillyjcc.com
SUMMARY:Gems at the J | Spring Registration Brunch
DESCRIPTION:Open House: Brunch and Spring Course Registration \nCome learn about our Spring Courses and trips! This open-house style brunch allows you to sign up\, ask questions and enjoy a fun brunch\, while catching up with other members of the Gems community! Plus\, special bonus\, Brian Cohen\, a local technology guru\, will be here to answer cellphone and laptop questions! Feel free to bring you devices for Brian to help with! \nPlease bring your curiosity\, calendar\, and enthusiasm\, plus your insurance card so we can make sure you are getting the most out of your benefits. \nClick here to register for the spring registration brunch!
URL:https://www.phillyjcc.com/event/spring-registration-brunch/
LOCATION:Kaiserman JCC\, 45 Haverford Rd\, Wynnewood\, PA\, 19096\, United States
ATTACH;FMTTYPE=image/jpeg:https://www.phillyjcc.com/wp-content/uploads/2024/01/i-pf72TZC-X5.jpg
ORGANIZER;CN="Gems":MAILTO:gems@phillyjcc.com
END:VEVENT
END:VCALENDAR