BEGIN:VCALENDAR
VERSION:2.0
PRODID:-//Philly J - ECPv6.0.13.1//NONSGML v1.0//EN
CALSCALE:GREGORIAN
METHOD:PUBLISH
X-WR-CALNAME:Philly J
X-ORIGINAL-URL:https://www.phillyjcc.com
X-WR-CALDESC:Events for Philly J
REFRESH-INTERVAL;VALUE=DURATION:PT1H
X-Robots-Tag:noindex
X-PUBLISHED-TTL:PT1H
BEGIN:VTIMEZONE
TZID:America/New_York
BEGIN:DAYLIGHT
TZOFFSETFROM:-0500
TZOFFSETTO:-0400
TZNAME:EDT
DTSTART:20260308T070000
END:DAYLIGHT
BEGIN:STANDARD
TZOFFSETFROM:-0400
TZOFFSETTO:-0500
TZNAME:EST
DTSTART:20261101T060000
END:STANDARD
END:VTIMEZONE
BEGIN:VEVENT
DTSTART;TZID=America/New_York:20260307T193000
DTEND;TZID=America/New_York:20260307T210000
DTSTAMP:20260421T094958
CREATED:20260212T201808Z
LAST-MODIFIED:20260306T191256Z
UID:28187-1772911800-1772917200@www.phillyjcc.com
SUMMARY:Jr Maccabi Comedy Sports & Family Fun
DESCRIPTION:Join Team Philadelphia for a night of family fun with Comedy Sports and Philadelphia themed snacks and desserts. \nThis is a great opportunity to meet your teammates\, enjoy a sports-themed improv show\, and more! \nClick here to register!
URL:https://www.phillyjcc.com/event/jrmaccabifun/
LOCATION:Kaiserman JCC\, 45 Haverford Rd\, Wynnewood\, PA\, 19096\, United States
ORGANIZER;CN="Barrie%20Mittica":MAILTO:bmittica@phillyjcc.com
END:VEVENT
END:VCALENDAR