BEGIN:VCALENDAR
VERSION:2.0
PRODID:-//Philly J - ECPv6.0.13.1//NONSGML v1.0//EN
CALSCALE:GREGORIAN
METHOD:PUBLISH
X-WR-CALNAME:Philly J
X-ORIGINAL-URL:https://www.phillyjcc.com
X-WR-CALDESC:Events for Philly J
REFRESH-INTERVAL;VALUE=DURATION:PT1H
X-Robots-Tag:noindex
X-PUBLISHED-TTL:PT1H
BEGIN:VTIMEZONE
TZID:America/New_York
BEGIN:DAYLIGHT
TZOFFSETFROM:-0500
TZOFFSETTO:-0400
TZNAME:EDT
DTSTART:20260308T070000
END:DAYLIGHT
BEGIN:STANDARD
TZOFFSETFROM:-0400
TZOFFSETTO:-0500
TZNAME:EST
DTSTART:20261101T060000
END:STANDARD
END:VTIMEZONE
BEGIN:VEVENT
DTSTART;TZID=America/New_York:20260106T100000
DTEND;TZID=America/New_York:20260106T113000
DTSTAMP:20260425T222353
CREATED:20251205T190431Z
LAST-MODIFIED:20251205T190431Z
UID:27870-1767693600-1767699000@www.phillyjcc.com
SUMMARY:Gems at the J | Registration Brunch & Info Session
DESCRIPTION:Come find out about new classes and programs for Winter 2026\, plus register for them as well! \nClick here to register for the Registration Brunch!\n  \n 
URL:https://www.phillyjcc.com/event/janbrunch/
LOCATION:Kaiserman JCC\, 45 Haverford Rd\, Wynnewood\, PA\, 19096\, United States
ATTACH;FMTTYPE=image/jpeg:https://www.phillyjcc.com/wp-content/uploads/2024/08/IMG_7183-scaled.jpg
ORGANIZER;CN="Gems":MAILTO:gems@phillyjcc.com
END:VEVENT
END:VCALENDAR