BEGIN:VCALENDAR
VERSION:2.0
PRODID:-//Philly J - ECPv6.0.13.1//NONSGML v1.0//EN
CALSCALE:GREGORIAN
METHOD:PUBLISH
X-WR-CALNAME:Philly J
X-ORIGINAL-URL:https://www.phillyjcc.com
X-WR-CALDESC:Events for Philly J
REFRESH-INTERVAL;VALUE=DURATION:PT1H
X-Robots-Tag:noindex
X-PUBLISHED-TTL:PT1H
BEGIN:VTIMEZONE
TZID:America/New_York
BEGIN:DAYLIGHT
TZOFFSETFROM:-0500
TZOFFSETTO:-0400
TZNAME:EDT
DTSTART:20240310T070000
END:DAYLIGHT
BEGIN:STANDARD
TZOFFSETFROM:-0400
TZOFFSETTO:-0500
TZNAME:EST
DTSTART:20241103T060000
END:STANDARD
END:VTIMEZONE
BEGIN:VEVENT
DTSTART;TZID=America/New_York:20240912T130000
DTEND;TZID=America/New_York:20240912T140000
DTSTAMP:20260421T114018
CREATED:20240822T175406Z
LAST-MODIFIED:20240822T175439Z
UID:10001474-1726146000-1726149600@www.phillyjcc.com
SUMMARY:Gems at the J | Mahjong Lessons
DESCRIPTION:With Sharon Dunoff & Helene Rosenfeldt | 4 Thursdays\, September 5-26\, 2024 | 1pm – 2pm | $80 \nIn just 4 weeks\, you will learn how to play a beginner’s game of Mah Jongg. You’ll learn how to identify tiles\, read a card and the rules of the game! Learn the game your mother and grandmother always wanted to teach you! \nPlease feel free to join us for Mahjong Open Play after the completion of the course from 1-3pm on Thursdays. \n  \nClick here to register for this event!
URL:https://www.phillyjcc.com/event/gems-at-the-j-mahjong-lessons/2024-09-12/
LOCATION:Kaiserman JCC\, 45 Haverford Rd\, Wynnewood\, PA\, 19096\, United States
ATTACH;FMTTYPE=image/jpeg:https://www.phillyjcc.com/wp-content/uploads/2024/03/gettyimages-71186706-1619720082.jpg
ORGANIZER;CN="Gems":MAILTO:gems@phillyjcc.com
END:VEVENT
END:VCALENDAR